BEGIN:VCALENDAR
VERSION:2.0
PRODID:-//Comédie de Bruxelles - ECPv5.9.2//NONSGML v1.0//EN
CALSCALE:GREGORIAN
METHOD:PUBLISH
X-WR-CALNAME:Comédie de Bruxelles
X-ORIGINAL-URL:https://comediedebruxelles.be
X-WR-CALDESC:évènements pour Comédie de Bruxelles
BEGIN:VTIMEZONE
TZID:UTC
BEGIN:STANDARD
TZOFFSETFROM:+0000
TZOFFSETTO:+0000
TZNAME:UTC
DTSTART:20220101T000000
END:STANDARD
END:VTIMEZONE
BEGIN:VEVENT
DTSTART;VALUE=DATE:20221217
DTEND;VALUE=DATE:20230101
DTSTAMP:20260421T184234
CREATED:20220518T200708Z
LAST-MODIFIED:20221006T152953Z
UID:3956-1671235200-1672531199@comediedebruxelles.be
SUMMARY:Toâ
DESCRIPTION:Toâ\nUne comédie magistrale de Sacha Guitry ! \n« Michel Desnoyer est auteur\, comédien et metteur en scène de théâtre à succès. Un soir\, il rompt avec Ecaterina après une énième et violente dispute dont elle ne veut dévoiler la raison… Michel décide alors de faire de cette rupture son prochain sujet de comédie : il en sera l’interprète principal et la séduisante Françoise jouera le rôle de sa maîtresse. Mais quand le rideau se lève sur la pièce\, que les domestiques jouent leur propre rôle et qu’Ecaterina interrompt le spectacle… on ne sait plus très bien où commence la fiction et où s’arrête la réalité ! »  \n\nDe Guitry\, on ne retient souvent que les portes et les gifles qui claquent\, les trahisons amoureuses\, les traîtrises misogynes et les répliques assassines agrémentées de bulles de champagne. Mais ce n’est pas tout… Guitry\, c’est surtout une langue\, une langue vive et luxuriante\, jonchée d’une multitude de signes derrière lesquels apparaît une extrême connaissance du plateau : c’est un acteur qui écrit. Ou bien un auteur qui pratique le plateau et qui manie avec virtuosité les rythmes\, les ruptures… le dialogue. « Toâ » est une malicieuse comédie où Sacha Guitry questionne à la fois son œuvre et sa propre vie…  \n\nLa presse en parle \n« L’œuvre majeure de Sacha Guitry. Magistral ! »« On rit et on apprend sur le théâtre. Le théâtre dans le théâtre surprenant. Un Guitry visionnaire ! » \n \n\nDistribution : Christel Pedrinelli\, Stéphanie Van Vyve\, Marie-Hélène Remacle\, Daniel Hanssens\, Marc Weiss et Robin Van Dyck  \n\n\nMise en scène : Daniel HanssensAssistanat : Victor Scheffer \n\n\nScénographie : Francesco Deleo \n\n\nCostumes : Béatrice Guillaume \n\n\nLumières : Laurent Kaye \n\n  \nDates \n\nArlon : le mardi 8 novembre \nTubize : le jeudi 17 novembre \nWavre : le dimanche 20 novembre                                               (soirée de bienfaisance à la Sucrerie) \nDinant : le mardi 22 novembre \nAth : le vendredi 25 novembre \nHuy : le samedi 26 novembre \nCentre Culturel d’Auderghem : \nDu mardi 29 novembre au samedi 3 décembre à 20h00 & le dimanche 4 décembre à 15h00 \nSpa : le vendredi 9 décembre \nOttignies : le mardi 13 décembre \nBertrix : le mercredi 14 décembre \nCentre Culturel d’Uccle : \nLe samedi 17 décembre à 20h15 \nLe mardi 20 décembre à 20h15 (soirée réservée au membre du personnel soignant) \nDu mercredi 21 au vendredi 23 décembre à 20h15 \nLe samedi 24 décembre à 19h00 \nDu mardi 27 au vendredi 30 décembre à 20h15 \nLe samedi 31 décembre 1ère représentation à 19h00 et 2ème représentation à 22h30 \n(N’hésitez pas à nous contacter si vous souhaitez profiter de notre offre dîner-spectacle le soir du 31/12) \n					\n						\n				\n				\n				\n			Billetterie disponible via utickTICKETS
URL:https://comediedebruxelles.be/events/toa/
LOCATION:Centre Culturel d’Uccle
CATEGORIES:Comédie
ATTACH;FMTTYPE=image/jpeg:https://comediedebruxelles.be/wp-content/uploads/2022/05/3.-Affiche-Toa.jpg
END:VEVENT
END:VCALENDAR