BEGIN:VCALENDAR
VERSION:2.0
PRODID:-//Comédie de Bruxelles - ECPv5.9.2//NONSGML v1.0//EN
CALSCALE:GREGORIAN
METHOD:PUBLISH
X-WR-CALNAME:Comédie de Bruxelles
X-ORIGINAL-URL:https://comediedebruxelles.be
X-WR-CALDESC:évènements pour Comédie de Bruxelles
BEGIN:VTIMEZONE
TZID:UTC
BEGIN:STANDARD
TZOFFSETFROM:+0000
TZOFFSETTO:+0000
TZNAME:UTC
DTSTART:20250101T000000
END:STANDARD
END:VTIMEZONE
BEGIN:VEVENT
DTSTART;VALUE=DATE:20251103
DTEND;VALUE=DATE:20251105
DTSTAMP:20260421T190019
CREATED:20251029T103043Z
LAST-MODIFIED:20251029T103419Z
UID:5465-1762128000-1762300799@comediedebruxelles.be
SUMMARY:Le béret de la tortue
DESCRIPTION:Le béret de la tortue\n\nNouveau spectacle de fin d’année: « Le Béret de la Tortue » remplace « Cyrano de Bergerac ».  \nUne comédie décapante\, croustillante\, réjouissante !Vacances entre amis\, vacances pourries ! Trois couples d’amis louent ensemble une villa pour les vacances dans le sud de la France. Très vite\, l’ambiance se rafraîchit. Chaque couple critique ses voisins dans l’intimité de sa chambre à coucher. Au dîner final sonne l’heure du règlement de comptes… \nVenez savourer ce séjour estival et lever votre verre aux pires vacances que vous n’ayez jamais passées !Une comédie sur la tragédie de la cohabitation.Une histoire qui vous rappellera forcément un souvenir !Un texte fin\, drôle\, cruel et tendre à la fois !On rit\, on rit… beaucoup !Distribution : Pierre Pigeolet\, Christel Pédrinelli\, Michel Hinderyckx\, Daniel Hanssens\, Catherine Claeys\, Joséphine de RenesseMise en scène : Daniel HanssensAssistant à la mise en scène : Victor SchefferDécor : Francesco DeléoLumière : Laurent Kaye \n Dates : \nAu Centre Culturel d’Auderghem :  du 02 au 07 décembre 2025 \nAu Centre Culturel d’Uccle : du 16 au 31 décembre 2025 \nEn coproduction avec Shelter Prod \nAvec le soutien de Taxshelter.be et ING \nAvec le soutien du tax shelter du gouvernement fédéral de Belgique \nMerci aux investisseurs de Taxshelter.be et ING dont les sociétés Wtterwulghe Arnaud\, Espace Chassart\, Axo et Into Difference. \n\n					\n						\n				\n				\n				\n								\n																										\n						\n				\n				\n				\n			Billetterie disponible via utickTICKETS
URL:https://comediedebruxelles.be/events/le-beret-de-la-tortue-8/
LOCATION:Arlon
CATEGORIES:Comédie
ATTACH;FMTTYPE=image/jpeg:https://comediedebruxelles.be/wp-content/uploads/2025/02/Affiches-ComBXL-25-26-Affiche-40x60-Le-Béret-de-la-Tortue.jpg
END:VEVENT
END:VCALENDAR