BEGIN:VCALENDAR
VERSION:2.0
PRODID:-//Comédie de Bruxelles - ECPv5.9.2//NONSGML v1.0//EN
CALSCALE:GREGORIAN
METHOD:PUBLISH
X-WR-CALNAME:Comédie de Bruxelles
X-ORIGINAL-URL:https://comediedebruxelles.be
X-WR-CALDESC:évènements pour Comédie de Bruxelles
BEGIN:VTIMEZONE
TZID:Europe/Paris
BEGIN:DAYLIGHT
TZOFFSETFROM:+0100
TZOFFSETTO:+0200
TZNAME:CEST
DTSTART:20250330T010000
END:DAYLIGHT
BEGIN:STANDARD
TZOFFSETFROM:+0200
TZOFFSETTO:+0100
TZNAME:CET
DTSTART:20251026T010000
END:STANDARD
END:VTIMEZONE
BEGIN:VEVENT
DTSTART;TZID=Europe/Paris:20251209T200000
DTEND;TZID=Europe/Paris:20251209T220000
DTSTAMP:20260423T190907
CREATED:20251029T101845Z
LAST-MODIFIED:20251029T102106Z
UID:5459-1765310400-1765317600@comediedebruxelles.be
SUMMARY:Le béret de la tortue
DESCRIPTION:Le béret de la tortue\n\nNouveau spectacle de fin d’année: « Le Béret de la Tortue » remplace « Cyrano de Bergerac ».  \nUne comédie décapante\, croustillante\, réjouissante !Vacances entre amis\, vacances pourries ! Trois couples d’amis louent ensemble une villa pour les vacances dans le sud de la France. Très vite\, l’ambiance se rafraîchit. Chaque couple critique ses voisins dans l’intimité de sa chambre à coucher. Au dîner final sonne l’heure du règlement de comptes… \nVenez savourer ce séjour estival et lever votre verre aux pires vacances que vous n’ayez jamais passées !Une comédie sur la tragédie de la cohabitation.Une histoire qui vous rappellera forcément un souvenir !Un texte fin\, drôle\, cruel et tendre à la fois !On rit\, on rit… beaucoup !Distribution : Pierre Pigeolet\, Christel Pédrinelli\, Michel Hinderyckx\, Daniel Hanssens\, Catherine Claeys\, Joséphine de RenesseMise en scène : Daniel HanssensAssistant à la mise en scène : Victor SchefferDécor : Francesco DeléoLumière : Laurent Kaye \n Dates : \nAu Centre Culturel d’Auderghem :  du 02 au 07 décembre 2025 \nAu Centre Culturel d’Uccle : du 16 au 31 décembre 2025 \nEn coproduction avec Shelter Prod \nAvec le soutien de Taxshelter.be et ING \nAvec le soutien du tax shelter du gouvernement fédéral de Belgique \nMerci aux investisseurs de Taxshelter.be et ING dont les sociétés Wtterwulghe Arnaud\, Espace Chassart\, Axo et Into Difference. \n\n					\n						\n				\n				\n				\n								\n																										\n						\n				\n				\n				\n			Billetterie disponible via utickTICKETS
URL:https://comediedebruxelles.be/events/le-beret-de-la-tortue/
LOCATION:Dinant
ATTACH;FMTTYPE=image/jpeg:https://comediedebruxelles.be/wp-content/uploads/2025/02/Affiches-ComBXL-25-26-Affiche-40x60-Le-Béret-de-la-Tortue.jpg
END:VEVENT
END:VCALENDAR